BEGIN:VCALENDAR
VERSION:2.0
PRODID:-//TYPO3/NONSGML Calendarize//EN
BEGIN:VEVENT
UID:calendarize-termine/informationen/ehsl-2-1-1-1
DTSTAMP:20260424T142930Z
DTSTART;VALUE=DATE:20260901
DTEND;VALUE=DATE:20260902
SUMMARY:Semesterbeginn (Kopie 1)
DESCRIPTION:
X-ALT-DESC;FMTTYPE=text/html:
LOCATION:
END:VEVENT
END:VCALENDAR
